BEGIN:VCALENDAR
VERSION:2.0
PRODID:-// - ECPv6.15.20//NONSGML v1.0//EN
CALSCALE:GREGORIAN
METHOD:PUBLISH
X-ORIGINAL-URL:https://emfasys.de
X-WR-CALDESC:Veranstaltungen für 
REFRESH-INTERVAL;VALUE=DURATION:PT1H
X-Robots-Tag:noindex
X-PUBLISHED-TTL:PT1H
BEGIN:VTIMEZONE
TZID:Europe/Berlin
BEGIN:DAYLIGHT
TZOFFSETFROM:+0100
TZOFFSETTO:+0200
TZNAME:CEST
DTSTART:20250330T010000
END:DAYLIGHT
BEGIN:STANDARD
TZOFFSETFROM:+0200
TZOFFSETTO:+0100
TZNAME:CET
DTSTART:20251026T010000
END:STANDARD
BEGIN:DAYLIGHT
TZOFFSETFROM:+0100
TZOFFSETTO:+0200
TZNAME:CEST
DTSTART:20260329T010000
END:DAYLIGHT
BEGIN:STANDARD
TZOFFSETFROM:+0200
TZOFFSETTO:+0100
TZNAME:CET
DTSTART:20261025T010000
END:STANDARD
BEGIN:DAYLIGHT
TZOFFSETFROM:+0100
TZOFFSETTO:+0200
TZNAME:CEST
DTSTART:20270328T010000
END:DAYLIGHT
BEGIN:STANDARD
TZOFFSETFROM:+0200
TZOFFSETTO:+0100
TZNAME:CET
DTSTART:20271031T010000
END:STANDARD
END:VTIMEZONE
BEGIN:VEVENT
DTSTART;TZID=Europe/Berlin:20260509T100000
DTEND;TZID=Europe/Berlin:20260509T130000
DTSTAMP:20260423T120418
CREATED:20260413T110339Z
LAST-MODIFIED:20260418T150312Z
UID:290-1778320800-1778331600@emfasys.de
SUMMARY:Frühjahrstraining 2
DESCRIPTION:Du kannst fahren.\nAber du weißt auch: Da ist noch Luft nach oben. \nKurven laufen nicht immer sauber.\nDer Blick ist manchmal zu spät.\nBremsen funktioniert – aber nicht wirklich souverän.\nUnd wenn’s eng wird\, wird’s hektisch. \n👉 Genau hier trennt sich „fahren können“ von „wirklich sicher fahren“. \nIm Basistraining gehen wir gezielt an die Punkte ran\, die auf der Straße den Unterschied machen: \n* saubere Blickführung – damit du früher siehst\, was kommt\n* klare Fahrlinie – für ruhige\, kontrollierte Kurven\n* verschiedene Kurvenstile – je nach Situation richtig reagieren\n* Schräglage verstehen und sicher nutzen \nUnd vor allem: \n👉 Gefahrbremsung & Ausweichen \nNicht theoretisch.\nNicht halbherzig.\nSondern so\, dass du im Ernstfall weißt\, was zu tun ist – ohne nachzudenken. \nWir arbeiten strukturiert\, steigern uns Schritt für Schritt und bringen dich dahin\, dass du dein Motorrad bewusst und kontrolliert bewegst – nicht nur irgendwie. \nAm Ende geht’s wieder gemeinsam raus auf die Straße\, um das Ganze im echten Fahrbetrieb umzusetzen. \n👉 Ziel:\nMehr Ruhe im Kopf.\nMehr Kontrolle im Bike.\nUnd ein deutlich besseres Gefühl in jeder Kurve. \nWenn du nicht einfach nur fahren\, sondern **besser fahren willst**\, dann ist das dein Training. \n– Martin \nTickets für die Veranstaltung gibt´s hier.
URL:https://emfasys.de/termin/fruehjahrstraining-2/
LOCATION:Parkplatz Gerblingerode\, Teistunger Straße 43\, Duderstadt\, Niedersachsen\, 37115\, Germany
ORGANIZER;CN="frimar75":MAILTO:training.frimar75@gmail.com
END:VEVENT
BEGIN:VEVENT
DTSTART;TZID=Europe/Berlin:20260531T080000
DTEND;TZID=Europe/Berlin:20260601T075959
DTSTAMP:20260423T120418
CREATED:20260403T205440Z
LAST-MODIFIED:20260412T171037Z
UID:176-1780214400-1780300799@emfasys.de
SUMMARY:Human Biker Day
DESCRIPTION:Ich werd am 31.05. nach längerer Zeit mal wieder beim HBD mitfahren und etwas gutes tun.\nMacht das doch auch mal\, Karten gibt´s hier: Ticket-shop vom HBD e.V.
URL:https://emfasys.de/termin/human-biker-day/
LOCATION:Bürgerhaus Scharzfeld\, Am Anger 3\, Herzberg\, 37412\, Germany
END:VEVENT
END:VCALENDAR